BEGIN:VCALENDAR
VERSION:2.0
PRODID:-//20Church - ECPv6.15.19//NONSGML v1.0//EN
CALSCALE:GREGORIAN
METHOD:PUBLISH
X-WR-CALNAME:20Church
X-ORIGINAL-URL:https://20church.ca
X-WR-CALDESC:Events for 20Church
REFRESH-INTERVAL;VALUE=DURATION:PT1H
X-Robots-Tag:noindex
X-PUBLISHED-TTL:PT1H
BEGIN:VTIMEZONE
TZID:UTC
BEGIN:STANDARD
TZOFFSETFROM:+0000
TZOFFSETTO:+0000
TZNAME:UTC
DTSTART:20220101T000000
END:STANDARD
END:VTIMEZONE
BEGIN:VEVENT
DTSTART;TZID=UTC:20230731T110000
DTEND;TZID=UTC:20280731T003000
DTSTAMP:20260424T163726
CREATED:20221219T153006Z
LAST-MODIFIED:20230916T224816Z
UID:289-1690801200-1848616200@20church.ca
SUMMARY:No New Members Class: Just Family!
DESCRIPTION:No New Members Class: Just Family!\nThe Jesus story is filled with how he interacted with people everyday\, doing miracles\,\nhealing the afflicted and more. He provoked people to consider living their days\nabundantly. You see his tenderness of heart and his way of looking at the world\nengaged people to move beyond the boundaries they had set for their life. Jesus\npointed out that our perceptions can hold us captive to be less than we can be.  \nYet he didn’t point a finger to say we’re not measuring up. From what we read his way of\nrelating to us clearly accepts us as we are. This doesn’t come without challenging us to\nunderstand more about who we are and who God is.Here at 20Church\, you will not be met with\na lot of formal classes\, formal platitudes\, or formal wear for that matter. We are just\nCommunity people meeting to worship God\, and fellowship. We are all about Community and\nFellowship. Come\, visit perhaps stay for a while.\nWe welcome you to join us Sundays at 11:00am.
URL:https://20church.ca/event/no-new-members-class/
LOCATION:20Church\, Vineland\, ON\, Canada
CATEGORIES:Holy
ATTACH;FMTTYPE=image/jpeg:https://20church.ca/wp-content/uploads/2023/07/pexels-yan-krukau-6817728.jpg
ORGANIZER;CN="Pastor David":MAILTO:20church.ca@gmail.com
END:VEVENT
BEGIN:VEVENT
DTSTART;TZID=UTC:20230827T110000
DTEND;TZID=UTC:20230827T133000
DTSTAMP:20260424T163726
CREATED:20230916T223049Z
LAST-MODIFIED:20231002T125913Z
UID:6029-1693134000-1693143000@20church.ca
SUMMARY:Church Picnic
DESCRIPTION:In keeping with our dedication and commitment to our Community\, our Pastor and church banded together to create one of the best church picnic’s ever. Siegfried Tepper\, renown pianist was our piano virtuoso for the evening. A good number of hymns were joyously sung together\, as interludes of classics from around the world kept our undivided attention over the entire evening. The food was amazing\, the help outstanding\, and the time together unforgettable. Please join us for our next Event Extravaganza as great times are had by all\, as our church reaches out to engage our community.
URL:https://20church.ca/event/church-picnic/
LOCATION:20Church\, Vineland\, ON\, Canada
CATEGORIES:Family
ATTACH;FMTTYPE=image/jpeg:https://20church.ca/wp-content/uploads/2023/09/Aug27-23-Event_01_53_2005.jpg
ORGANIZER;CN="Pastor David":MAILTO:20church.ca@gmail.com
END:VEVENT
END:VCALENDAR